Package: MBASED Version: 1.33.0 Command: /home/biocbuild/bbs-3.17-bioc/R/bin/R CMD build --keep-empty-dirs --no-resave-data MBASED StartedAt: 2023-04-11 16:55:58 -0400 (Tue, 11 Apr 2023) EndedAt: 2023-04-11 16:57:48 -0400 (Tue, 11 Apr 2023) EllapsedTime: 110.0 seconds RetCode: 0 Status: OK PackageFile: MBASED_1.33.0.tar.gz PackageFileSize: 364.1 KiB