Package: MAIT Version: 1.33.0 Command: /home/biocbuild/bbs-3.17-bioc/R/bin/R CMD build --keep-empty-dirs --no-resave-data MAIT StartedAt: 2023-04-12 03:12:21 -0400 (Wed, 12 Apr 2023) EndedAt: 2023-04-12 03:14:56 -0400 (Wed, 12 Apr 2023) EllapsedTime: 155.7 seconds RetCode: 0 Status: OK PackageFile: MAIT_1.33.0.tar.gz PackageFileSize: 2.256 MiB