Package: MAGAR Version: 1.7.0 Command: /home/biocbuild/bbs-3.17-bioc/R/bin/R CMD build --keep-empty-dirs --no-resave-data MAGAR StartedAt: 2023-04-11 16:54:46 -0400 (Tue, 11 Apr 2023) EndedAt: 2023-04-11 16:56:49 -0400 (Tue, 11 Apr 2023) EllapsedTime: 122.7 seconds RetCode: 0 Status: OK PackageFile: MAGAR_1.7.0.tar.gz PackageFileSize: 926.4 KiB