Package: Linnorm Version: 2.23.0 Command: /home/biocbuild/bbs-3.17-bioc/R/bin/R CMD check --install=check:Linnorm.install-out.txt --library=/home/biocbuild/bbs-3.17-bioc/R/site-library --timings Linnorm_2.23.0.tar.gz StartedAt: 2023-04-12 07:05:58 -0400 (Wed, 12 Apr 2023) EndedAt: 2023-04-12 07:15:32 -0400 (Wed, 12 Apr 2023) EllapsedTime: 574.8 seconds RetCode: 1 Status: ERROR CheckDir: Linnorm.Rcheck Warnings: NA