############################################################################## ############################################################################## ### ### Running command: ### ### /home/biocbuild/bbs-3.17-bioc/R/bin/R CMD check --install=check:Linnorm.install-out.txt --library=/home/biocbuild/bbs-3.17-bioc/R/site-library --timings Linnorm_2.23.0.tar.gz ### ############################################################################## ############################################################################## * using log directory ‘/home/biocbuild/bbs-3.17-bioc/meat/Linnorm.Rcheck’ * using R Under development (unstable) (2023-02-14 r83833) * using platform: x86_64-pc-linux-gnu (64-bit) * R was compiled by gcc (Ubuntu 9.4.0-1ubuntu1~20.04.1) 9.4.0 GNU Fortran (Ubuntu 9.4.0-1ubuntu1~20.04.1) 9.4.0 * running under: Ubuntu 20.04.6 LTS * using session charset: UTF-8 * checking for file ‘Linnorm/DESCRIPTION’ ... OK * checking extension type ... Package * this is package ‘Linnorm’ version ‘2.23.0’ * checking package namespace information ... OK * checking package dependencies ... OK * checking if this is a source package ... OK * checking if there is a namespace ... OK * checking for hidden files and directories ... OK * checking for portable file names ... OK * checking for sufficient/correct file permissions ... OK * checking whether package ‘Linnorm’ can be installed ... OK * used C++ compiler: ‘g++ (Ubuntu 9.4.0-1ubuntu1~20.04.1) 9.4.0’ * checking installed package size ... NOTE installed size is 5.4Mb sub-directories of 1Mb or more: data 2.3Mb libs 2.8Mb * checking package directory ... OK * checking ‘build’ directory ... OK * checking DESCRIPTION meta-information ... OK * checking top-level files ... OK * checking for left-over files ... OK * checking index information ... OK * checking package subdirectories ... OK * checking R files for non-ASCII characters ... OK * checking R files for syntax errors ... OK * checking whether the package can be loaded ... OK * checking whether the package can be loaded with stated dependencies ... OK * checking whether the package can be unloaded cleanly ... OK * checking whether the namespace can be loaded with stated dependencies ... OK * checking whether the namespace can be unloaded cleanly ... OK * checking loading without being on the library search path ... OK * checking dependencies in R code ... OK * checking S3 generic/method consistency ... OK * checking replacement functions ... OK * checking foreign function calls ... OK * checking R code for possible problems ... NOTE Linnorm.HClust: no visible binding for global variable ‘x’ Linnorm.HClust: no visible binding for global variable ‘y’ Linnorm.HClust: no visible binding for global variable ‘xend’ Linnorm.HClust: no visible binding for global variable ‘yend’ Linnorm.HClust: no visible binding for global variable ‘cluster’ Linnorm.HClust: no visible binding for global variable ‘X1’ Linnorm.HClust: no visible binding for global variable ‘X2’ Linnorm.HVar: no visible binding for global variable ‘SD’ Linnorm.HVar: no visible binding for global variable ‘group’ Undefined global functions or variables: SD X1 X2 cluster group x xend y yend * checking Rd files ... OK * checking Rd metadata ... OK * checking Rd cross-references ... OK * checking for missing documentation entries ... OK * checking for code/documentation mismatches ... OK * checking Rd \usage sections ... OK * checking Rd contents ... OK * checking for unstated dependencies in examples ... OK * checking contents of ‘data’ directory ... OK * checking data for non-ASCII characters ... OK * checking data for ASCII and uncompressed saves ... OK * checking line endings in C/C++/Fortran sources/headers ... OK * checking line endings in Makefiles ... OK * checking compilation flags in Makevars ... OK * checking for GNU extensions in Makefiles ... OK * checking for portable use of $(BLAS_LIBS) and $(LAPACK_LIBS) ... OK * checking use of PKG_*FLAGS in Makefiles ... OK * checking compiled code ... NOTE Note: information on .o files is not available * checking files in ‘vignettes’ ... OK * checking examples ... OK Examples with CPU (user + system) or elapsed time > 5s user system elapsed RnaXSim 74.843 0.132 74.977 Linnorm.Cor 40.987 0.287 41.275 Linnorm.limma 31.690 0.104 31.800 Linnorm 28.559 0.024 28.583 Linnorm.Norm 28.235 0.080 28.314 * checking for unstated dependencies in ‘tests’ ... OK * checking tests ... Running ‘testthat.R’ ERROR Running the tests in ‘tests/testthat.R’ failed. Last 13 lines of output: Error in `library(matrixStats)`: there is no package called 'matrixStats' Backtrace: ▆ 1. └─base::library(matrixStats) at test_Misc_Stats.R:3:0 ── Error ('test_SkewVar.R:3:1'): (code run outside of `test_that()`) ─────────── Error in `library(matrixStats)`: there is no package called 'matrixStats' Backtrace: ▆ 1. └─base::library(matrixStats) at test_SkewVar.R:3:0 [ FAIL 2 | WARN 0 | SKIP 0 | PASS 6 ] Error: Test failures Execution halted * checking for unstated dependencies in vignettes ... OK * checking package vignettes in ‘inst/doc’ ... OK * checking running R code from vignettes ... ‘Linnorm_User_Manual.Rmd’ using ‘UTF-8’... OK NONE * checking re-building of vignette outputs ... OK * checking PDF version of manual ... OK * DONE Status: 1 ERROR, 3 NOTEs See ‘/home/biocbuild/bbs-3.17-bioc/meat/Linnorm.Rcheck/00check.log’ for details.