Package: Linnorm Version: 2.23.0 Command: /home/biocbuild/bbs-3.17-bioc/R/bin/R CMD build --keep-empty-dirs --no-resave-data Linnorm StartedAt: 2023-04-11 16:53:27 -0400 (Tue, 11 Apr 2023) EndedAt: 2023-04-11 16:57:16 -0400 (Tue, 11 Apr 2023) EllapsedTime: 228.6 seconds RetCode: 0 Status: OK PackageFile: Linnorm_2.23.0.tar.gz PackageFileSize: 4.087 MiB