Package: KinSwingR Version: 1.17.0 Command: /home/biocbuild/bbs-3.17-bioc/R/bin/R CMD build --keep-empty-dirs --no-resave-data KinSwingR StartedAt: 2023-04-12 03:10:05 -0400 (Wed, 12 Apr 2023) EndedAt: 2023-04-12 03:10:35 -0400 (Wed, 12 Apr 2023) EllapsedTime: 30.2 seconds RetCode: 0 Status: OK PackageFile: KinSwingR_1.17.0.tar.gz PackageFileSize: 552.6 KiB