Package: HilbertVis Version: 1.57.0 Command: /home/biocbuild/bbs-3.17-bioc/R/bin/R CMD check --install=check:HilbertVis.install-out.txt --library=/home/biocbuild/bbs-3.17-bioc/R/site-library --timings HilbertVis_1.57.0.tar.gz StartedAt: 2023-04-11 20:54:07 -0400 (Tue, 11 Apr 2023) EndedAt: 2023-04-11 20:54:32 -0400 (Tue, 11 Apr 2023) EllapsedTime: 24.7 seconds RetCode: 0 Status: OK CheckDir: HilbertVis.Rcheck Warnings: 0