Package: HiCDCPlus Version: 1.7.0 Command: /home/biocbuild/bbs-3.17-bioc/R/bin/R CMD INSTALL HiCDCPlus StartedAt: 2023-04-12 01:52:48 -0400 (Wed, 12 Apr 2023) EndedAt: 2023-04-12 01:53:44 -0400 (Wed, 12 Apr 2023) EllapsedTime: 56.2 seconds RetCode: 0 Status: OK