Package: HiCDCPlus Version: 1.7.0 Command: /home/biocbuild/bbs-3.17-bioc/R/bin/R CMD build --keep-empty-dirs --no-resave-data HiCDCPlus StartedAt: 2023-04-12 03:02:25 -0400 (Wed, 12 Apr 2023) EndedAt: 2023-04-12 03:04:34 -0400 (Wed, 12 Apr 2023) EllapsedTime: 128.5 seconds RetCode: 0 Status: OK PackageFile: HiCDCPlus_1.7.0.tar.gz PackageFileSize: 1.189 MiB