Package: GeneAccord Version: 1.17.1 Command: /home/biocbuild/bbs-3.17-bioc/R/bin/R CMD build --keep-empty-dirs --no-resave-data GeneAccord StartedAt: 2023-04-12 02:52:55 -0400 (Wed, 12 Apr 2023) EndedAt: 2023-04-12 02:53:25 -0400 (Wed, 12 Apr 2023) EllapsedTime: 30.1 seconds RetCode: 1 Status: ERROR PackageFile: None PackageFileSize: NA