Package: GOTHiC Version: 1.35.0 Command: /home/biocbuild/bbs-3.17-bioc/R/bin/R CMD check --install=check:GOTHiC.install-out.txt --library=/home/biocbuild/bbs-3.17-bioc/R/site-library --timings GOTHiC_1.35.0.tar.gz StartedAt: 2023-04-11 20:41:46 -0400 (Tue, 11 Apr 2023) EndedAt: 2023-04-11 20:48:08 -0400 (Tue, 11 Apr 2023) EllapsedTime: 382.0 seconds RetCode: 0 Status: OK CheckDir: GOTHiC.Rcheck Warnings: 0