Package: GEOexplorer Version: 1.5.0 Command: /home/biocbuild/bbs-3.17-bioc/R/bin/R CMD check --install=check:GEOexplorer.install-out.txt --library=/home/biocbuild/bbs-3.17-bioc/R/site-library --timings GEOexplorer_1.5.0.tar.gz StartedAt: 2023-04-11 20:34:36 -0400 (Tue, 11 Apr 2023) EndedAt: 2023-04-11 20:37:23 -0400 (Tue, 11 Apr 2023) EllapsedTime: 167.3 seconds RetCode: 0 Status: OK CheckDir: GEOexplorer.Rcheck Warnings: 0