Package: FamAgg Version: 1.27.0 Command: /home/biocbuild/bbs-3.17-bioc/R/bin/R CMD INSTALL FamAgg StartedAt: 2023-04-11 15:34:18 -0400 (Tue, 11 Apr 2023) EndedAt: 2023-04-11 15:34:30 -0400 (Tue, 11 Apr 2023) EllapsedTime: 11.7 seconds RetCode: 0 Status: OK