Package: FRASER Version: 1.11.0 Command: /home/biocbuild/bbs-3.17-bioc/R/bin/R CMD build --keep-empty-dirs --no-resave-data FRASER StartedAt: 2023-04-11 16:33:03 -0400 (Tue, 11 Apr 2023) EndedAt: 2023-04-11 16:36:28 -0400 (Tue, 11 Apr 2023) EllapsedTime: 204.9 seconds RetCode: 0 Status: OK PackageFile: FRASER_1.11.0.tar.gz PackageFileSize: 2.077 MiB