Package: EpiDISH Version: 2.15.1 Command: /home/biocbuild/bbs-3.17-bioc/R/bin/R CMD check --install=check:EpiDISH.install-out.txt --library=/home/biocbuild/bbs-3.17-bioc/R/site-library --timings EpiDISH_2.15.1.tar.gz StartedAt: 2023-04-12 06:05:30 -0400 (Wed, 12 Apr 2023) EndedAt: 2023-04-12 06:06:26 -0400 (Wed, 12 Apr 2023) EllapsedTime: 56.1 seconds RetCode: 0 Status: OK CheckDir: EpiDISH.Rcheck Warnings: 0