Package: EpiDISH Version: 2.15.1 Command: /home/biocbuild/bbs-3.17-bioc/R/bin/R CMD check --install=check:EpiDISH.install-out.txt --library=/home/biocbuild/bbs-3.17-bioc/R/site-library --timings EpiDISH_2.15.1.tar.gz StartedAt: 2023-04-11 20:07:09 -0400 (Tue, 11 Apr 2023) EndedAt: 2023-04-11 20:08:06 -0400 (Tue, 11 Apr 2023) EllapsedTime: 56.7 seconds RetCode: 0 Status: OK CheckDir: EpiDISH.Rcheck Warnings: 0