Package: DropletUtils Version: 1.19.3 Command: /home/biocbuild/bbs-3.17-bioc/R/bin/R CMD build --keep-empty-dirs --no-resave-data DropletUtils StartedAt: 2023-04-11 16:23:58 -0400 (Tue, 11 Apr 2023) EndedAt: 2023-04-11 16:25:28 -0400 (Tue, 11 Apr 2023) EllapsedTime: 90.2 seconds RetCode: 0 Status: OK PackageFile: DropletUtils_1.19.3.tar.gz PackageFileSize: 558.2 KiB