Package: DepecheR Version: 1.15.0 Command: /home/biocbuild/bbs-3.17-bioc/R/bin/R CMD build --keep-empty-dirs --no-resave-data DepecheR StartedAt: 2023-04-12 02:39:14 -0400 (Wed, 12 Apr 2023) EndedAt: 2023-04-12 02:40:14 -0400 (Wed, 12 Apr 2023) EllapsedTime: 60.2 seconds RetCode: 0 Status: OK PackageFile: DepecheR_1.15.0.tar.gz PackageFileSize: 2.528 MiB