Package: DESeq2 Version: 1.39.8 Command: /home/biocbuild/bbs-3.17-bioc/R/bin/R CMD check --install=check:DESeq2.install-out.txt --library=/home/biocbuild/bbs-3.17-bioc/R/site-library --timings DESeq2_1.39.8.tar.gz StartedAt: 2023-04-11 19:52:05 -0400 (Tue, 11 Apr 2023) EndedAt: 2023-04-11 19:59:36 -0400 (Tue, 11 Apr 2023) EllapsedTime: 451.5 seconds RetCode: 0 Status: OK CheckDir: DESeq2.Rcheck Warnings: 0