Package: ComplexHeatmap Version: 2.15.3 Command: /home/biocbuild/bbs-3.17-bioc/R/bin/R CMD build --keep-empty-dirs --no-resave-data ComplexHeatmap StartedAt: 2023-04-11 16:11:15 -0400 (Tue, 11 Apr 2023) EndedAt: 2023-04-11 16:11:46 -0400 (Tue, 11 Apr 2023) EllapsedTime: 30.3 seconds RetCode: 0 Status: OK PackageFile: ComplexHeatmap_2.15.3.tar.gz PackageFileSize: 1.387 MiB