Package: ChIPXpress Version: 1.43.0 Command: /home/biocbuild/bbs-3.17-bioc/R/bin/R CMD build --keep-empty-dirs --no-resave-data ChIPXpress StartedAt: 2023-04-11 16:05:32 -0400 (Tue, 11 Apr 2023) EndedAt: 2023-04-11 16:06:23 -0400 (Tue, 11 Apr 2023) EllapsedTime: 51.2 seconds RetCode: 0 Status: OK PackageFile: ChIPXpress_1.43.0.tar.gz PackageFileSize: 309.9 KiB