Package: CeTF Version: 1.11.2 Command: /home/biocbuild/bbs-3.17-bioc/R/bin/R CMD check --install=check:CeTF.install-out.txt --library=/home/biocbuild/bbs-3.17-bioc/R/site-library --timings CeTF_1.11.2.tar.gz StartedAt: 2023-04-11 19:11:39 -0400 (Tue, 11 Apr 2023) EndedAt: 2023-04-11 19:18:29 -0400 (Tue, 11 Apr 2023) EllapsedTime: 409.4 seconds RetCode: 0 Status: OK CheckDir: CeTF.Rcheck Warnings: 0