Package: COTAN Version: 1.3.0 Command: /home/biocbuild/bbs-3.17-bioc/R/bin/R CMD check --install=check:COTAN.install-out.txt --library=/home/biocbuild/bbs-3.17-bioc/R/site-library --timings COTAN_1.3.0.tar.gz StartedAt: 2023-04-12 05:34:58 -0400 (Wed, 12 Apr 2023) EndedAt: 2023-04-12 05:38:48 -0400 (Wed, 12 Apr 2023) EllapsedTime: 229.5 seconds RetCode: 0 Status: OK CheckDir: COTAN.Rcheck Warnings: 0