Package: BiocCheck Version: 1.35.18 Command: /home/biocbuild/bbs-3.17-bioc/R/bin/R CMD INSTALL BiocCheck StartedAt: 2023-04-12 01:38:58 -0400 (Wed, 12 Apr 2023) EndedAt: 2023-04-12 01:39:06 -0400 (Wed, 12 Apr 2023) EllapsedTime: 7.8 seconds RetCode: 0 Status: OK