Package: BiocCheck Version: 1.35.18 Command: /home/biocbuild/bbs-3.17-bioc/R/bin/R CMD build --keep-empty-dirs --no-resave-data BiocCheck StartedAt: 2023-04-11 15:54:17 -0400 (Tue, 11 Apr 2023) EndedAt: 2023-04-11 15:54:28 -0400 (Tue, 11 Apr 2023) EllapsedTime: 10.6 seconds RetCode: 0 Status: OK PackageFile: BiocCheck_1.35.18.tar.gz PackageFileSize: 4.172 MiB