Package: BUScorrect Version: 1.17.0 Command: /home/biocbuild/bbs-3.17-bioc/R/bin/R CMD check --install=check:BUScorrect.install-out.txt --library=/home/biocbuild/bbs-3.17-bioc/R/site-library --timings BUScorrect_1.17.0.tar.gz StartedAt: 2023-04-11 19:01:29 -0400 (Tue, 11 Apr 2023) EndedAt: 2023-04-11 19:05:43 -0400 (Tue, 11 Apr 2023) EllapsedTime: 254.3 seconds RetCode: 0 Status: OK CheckDir: BUScorrect.Rcheck Warnings: 0