Package: BRGenomics Version: 1.11.0 Command: /home/biocbuild/bbs-3.17-bioc/R/bin/R CMD check --install=check:BRGenomics.install-out.txt --library=/home/biocbuild/bbs-3.17-bioc/R/site-library --timings BRGenomics_1.11.0.tar.gz StartedAt: 2023-04-11 18:58:43 -0400 (Tue, 11 Apr 2023) EndedAt: 2023-04-11 19:07:17 -0400 (Tue, 11 Apr 2023) EllapsedTime: 513.2 seconds RetCode: 0 Status: WARNINGS CheckDir: BRGenomics.Rcheck Warnings: 1