Package: BHC Version: 1.51.0 Command: /home/biocbuild/bbs-3.17-bioc/R/bin/R CMD build --keep-empty-dirs --no-resave-data BHC StartedAt: 2023-04-11 15:53:09 -0400 (Tue, 11 Apr 2023) EndedAt: 2023-04-11 15:53:35 -0400 (Tue, 11 Apr 2023) EllapsedTime: 26.3 seconds RetCode: 0 Status: OK PackageFile: BHC_1.51.0.tar.gz PackageFileSize: 137.1 KiB