Package: BADER Version: 1.37.0 Command: /home/biocbuild/bbs-3.17-bioc/R/bin/R CMD build --keep-empty-dirs --no-resave-data BADER StartedAt: 2023-04-11 15:50:18 -0400 (Tue, 11 Apr 2023) EndedAt: 2023-04-11 15:50:33 -0400 (Tue, 11 Apr 2023) EllapsedTime: 14.6 seconds RetCode: 0 Status: OK PackageFile: BADER_1.37.0.tar.gz PackageFileSize: 145.1 KiB