git_url: https://git.bioconductor.org/packages/AnnotationHub git_branch: devel git_last_commit: 2d143c0 git_last_commit_date: 2023-04-04 12:58:52 -0400 (Tue, 04 Apr 2023) Package: AnnotationHub Version: 3.7.4 Maintainer: Bioconductor Package Maintainer MaintainerEmail: maintainer at bioconductor.org