Package: AnVILBilling Version: 1.9.0 Command: /home/biocbuild/bbs-3.17-bioc/R/bin/R CMD INSTALL AnVILBilling StartedAt: 2023-04-11 15:25:27 -0400 (Tue, 11 Apr 2023) EndedAt: 2023-04-11 15:25:36 -0400 (Tue, 11 Apr 2023) EllapsedTime: 9.0 seconds RetCode: 0 Status: OK