Package: AMARETTO Version: 1.15.3 Command: /home/biocbuild/bbs-3.17-bioc/R/bin/R CMD build --keep-empty-dirs --no-resave-data AMARETTO StartedAt: 2023-04-11 15:46:54 -0400 (Tue, 11 Apr 2023) EndedAt: 2023-04-11 15:47:47 -0400 (Tue, 11 Apr 2023) EllapsedTime: 53.6 seconds RetCode: 0 Status: OK PackageFile: AMARETTO_1.15.3.tar.gz PackageFileSize: 3.216 MiB