Package: AHMassBank Version: 0.99.3 Command: /home/biocbuild/bbs-3.17-bioc/R/bin/R CMD build --keep-empty-dirs --no-resave-data AHMassBank StartedAt: 2023-04-11 15:46:01 -0400 (Tue, 11 Apr 2023) EndedAt: 2023-04-11 15:46:54 -0400 (Tue, 11 Apr 2023) EllapsedTime: 52.8 seconds RetCode: 0 Status: OK PackageFile: AHMassBank_0.99.3.tar.gz PackageFileSize: 278.4 KiB