Package: yeastGSData Version: 0.38.0 Command: /home/biocbuild/bbs-3.17-bioc/R/bin/R CMD check --install=check:yeastGSData.install-out.txt --library=/home/biocbuild/bbs-3.17-bioc/R/site-library --timings yeastGSData_0.38.0.tar.gz StartedAt: 2023-10-12 12:15:11 -0400 (Thu, 12 Oct 2023) EndedAt: 2023-10-12 12:16:47 -0400 (Thu, 12 Oct 2023) EllapsedTime: 96.0 seconds RetCode: 0 Status: WARNINGS CheckDir: yeastGSData.Rcheck Warnings: 1