git_url: https://git.bioconductor.org/packages/ptairData git_branch: RELEASE_3_17 git_last_commit: de313a7 git_last_commit_date: 2023-04-25 10:49:45 -0400 (Tue, 25 Apr 2023) Package: ptairData Version: 1.8.0 Maintainer: camille Roquencourt MaintainerEmail: camille.roquencourt at hotmail.fr