git_url: https://git.bioconductor.org/packages/marinerData git_branch: RELEASE_3_17 git_last_commit: 39efea9 git_last_commit_date: 2023-04-25 10:52:20 -0400 (Tue, 25 Apr 2023) Package: marinerData Version: 1.0.0 Maintainer: Eric Davis MaintainerEmail: ericscottdavis at outlook.com