git_url: https://git.bioconductor.org/packages/mammaPrintData git_branch: RELEASE_3_17 git_last_commit: 04144db git_last_commit_date: 2023-04-25 10:33:19 -0400 (Tue, 25 Apr 2023) Package: mammaPrintData Version: 1.36.0 Maintainer: Luigi Marchionni MaintainerEmail: marchion at jhu.edu