Package: diggitdata Version: 1.32.0 Command: /home/biocbuild/bbs-3.17-bioc/R/bin/R CMD build --keep-empty-dirs --no-resave-data diggitdata StartedAt: 2023-10-12 10:22:59 -0400 (Thu, 12 Oct 2023) EndedAt: 2023-10-12 10:23:18 -0400 (Thu, 12 Oct 2023) EllapsedTime: 19.8 seconds RetCode: 0 Status: OK PackageFile: diggitdata_1.32.0.tar.gz PackageFileSize: 47.28 MiB