Package: chipenrich.data Version: 2.24.0 Command: /home/biocbuild/bbs-3.17-bioc/R/bin/R CMD INSTALL chipenrich.data StartedAt: 2023-10-12 10:08:07 -0400 (Thu, 12 Oct 2023) EndedAt: 2023-10-12 10:10:17 -0400 (Thu, 12 Oct 2023) EllapsedTime: 130.2 seconds RetCode: 0 Status: OK