Package: cancerdata Version: 1.38.0 Command: /home/biocbuild/bbs-3.17-bioc/R/bin/R CMD check --install=check:cancerdata.install-out.txt --library=/home/biocbuild/bbs-3.17-bioc/R/site-library --timings cancerdata_1.38.0.tar.gz StartedAt: 2023-10-12 11:03:23 -0400 (Thu, 12 Oct 2023) EndedAt: 2023-10-12 11:03:46 -0400 (Thu, 12 Oct 2023) EllapsedTime: 23.3 seconds RetCode: 0 Status: OK CheckDir: cancerdata.Rcheck Warnings: 0