Package: biscuiteerData Version: 1.14.1 Command: /home/biocbuild/bbs-3.17-bioc/R/bin/R CMD check --install=check:biscuiteerData.install-out.txt --library=/home/biocbuild/bbs-3.17-bioc/R/site-library --timings biscuiteerData_1.14.1.tar.gz StartedAt: 2023-10-12 11:00:05 -0400 (Thu, 12 Oct 2023) EndedAt: 2023-10-12 11:02:32 -0400 (Thu, 12 Oct 2023) EllapsedTime: 146.2 seconds RetCode: 0 Status: OK CheckDir: biscuiteerData.Rcheck Warnings: 0