git_url: https://git.bioconductor.org/packages/aracne.networks git_branch: RELEASE_3_17 git_last_commit: 23c3ac4 git_last_commit_date: 2023-04-25 10:43:00 -0400 (Tue, 25 Apr 2023) Package: aracne.networks Version: 1.26.0 Maintainer: Federico M. Giorgi , Mariano Alvarez MaintainerEmail: reef103 at gmail.com