Package: XhybCasneuf Version: 1.38.0 Command: /home/biocbuild/bbs-3.17-bioc/R/bin/R CMD check --install=check:XhybCasneuf.install-out.txt --library=/home/biocbuild/bbs-3.17-bioc/R/site-library --timings XhybCasneuf_1.38.0.tar.gz StartedAt: 2023-10-12 12:14:02 -0400 (Thu, 12 Oct 2023) EndedAt: 2023-10-12 12:15:13 -0400 (Thu, 12 Oct 2023) EllapsedTime: 71.0 seconds RetCode: 0 Status: WARNINGS CheckDir: XhybCasneuf.Rcheck Warnings: 1