Package: WGSmapp Version: 1.12.0 Command: /home/biocbuild/bbs-3.17-bioc/R/bin/R CMD check --install=check:WGSmapp.install-out.txt --library=/home/biocbuild/bbs-3.17-bioc/R/site-library --timings WGSmapp_1.12.0.tar.gz StartedAt: 2023-10-12 12:13:58 -0400 (Thu, 12 Oct 2023) EndedAt: 2023-10-12 12:15:28 -0400 (Thu, 12 Oct 2023) EllapsedTime: 90.3 seconds RetCode: 0 Status: WARNINGS CheckDir: WGSmapp.Rcheck Warnings: 1