Package: RforProteomics Version: 1.38.1 Command: /home/biocbuild/bbs-3.17-bioc/R/bin/R CMD INSTALL RforProteomics StartedAt: 2023-10-12 10:01:58 -0400 (Thu, 12 Oct 2023) EndedAt: 2023-10-12 10:02:14 -0400 (Thu, 12 Oct 2023) EllapsedTime: 16.1 seconds RetCode: 0 Status: OK