Package: PhyloProfileData Version: 1.14.0 Command: /home/biocbuild/bbs-3.17-bioc/R/bin/R CMD check --install=check:PhyloProfileData.install-out.txt --library=/home/biocbuild/bbs-3.17-bioc/R/site-library --timings PhyloProfileData_1.14.0.tar.gz StartedAt: 2023-10-12 11:50:38 -0400 (Thu, 12 Oct 2023) EndedAt: 2023-10-12 11:52:25 -0400 (Thu, 12 Oct 2023) EllapsedTime: 107.1 seconds RetCode: 0 Status: OK CheckDir: PhyloProfileData.Rcheck Warnings: 0