Package: DuoClustering2018 Version: 1.18.0 Command: /home/biocbuild/bbs-3.17-bioc/R/bin/R CMD check --install=check:DuoClustering2018.install-out.txt --library=/home/biocbuild/bbs-3.17-bioc/R/site-library --timings DuoClustering2018_1.18.0.tar.gz StartedAt: 2023-10-12 11:16:48 -0400 (Thu, 12 Oct 2023) EndedAt: 2023-10-12 11:23:21 -0400 (Thu, 12 Oct 2023) EllapsedTime: 393.4 seconds RetCode: 0 Status: OK CheckDir: DuoClustering2018.Rcheck Warnings: 0