Package: DonaPLLP2013 Version: 1.38.0 Command: /home/biocbuild/bbs-3.17-bioc/R/bin/R CMD check --install=check:DonaPLLP2013.install-out.txt --library=/home/biocbuild/bbs-3.17-bioc/R/site-library --timings DonaPLLP2013_1.38.0.tar.gz StartedAt: 2023-10-12 11:15:27 -0400 (Thu, 12 Oct 2023) EndedAt: 2023-10-12 11:24:47 -0400 (Thu, 12 Oct 2023) EllapsedTime: 559.7 seconds RetCode: 0 Status: OK CheckDir: DonaPLLP2013.Rcheck Warnings: 0