Package: BioImageDbs Version: 1.8.0 Command: /home/biocbuild/bbs-3.17-bioc/R/bin/R CMD check --install=check:BioImageDbs.install-out.txt --library=/home/biocbuild/bbs-3.17-bioc/R/site-library --timings BioImageDbs_1.8.0.tar.gz StartedAt: 2023-10-12 11:00:00 -0400 (Thu, 12 Oct 2023) EndedAt: 2023-10-12 11:03:30 -0400 (Thu, 12 Oct 2023) EllapsedTime: 209.8 seconds RetCode: 0 Status: OK CheckDir: BioImageDbs.Rcheck Warnings: 0